Workbook

Sheet Sky heat pump
A1: WESTON CLIMATE
A2: WMD Company Sp.Z.O.O. ul. KIELECKA 4/5 31-526 KRAKÓW MAŁOPOLSKIE +48 451 115 524 sales@westonclimate.pl | www.westonclimate.pl
A3: Heat Pump (Inverter Top Blow Design Heating&Cooling&DHW)
A4: Standard Configuration | B4: Heat pump and indoor hydraulic box
A5: Picture
A6: Model | B6: WESTON-JN-MN-TOP-R290-5KW-1F | C6: WESTON-JN-MN-TOP-R290-7KW-1F | D6: WESTON-JN-MN-TOP-R290-9KW-230V-1F | E6: WESTON-JN-MN-TOP-R290-12KW-230V-1F | F6: WESTON-JN-MN-TOP-R290-15KW-230V-1F | G6: WESTON-JN-MN-TOP-R290-15KW-380V-3F | H6: WESTON-JN-MN-TOP-R290-20KW-380V-3F
A7: Heating Capacity Range (kW) | B7: 5 | C7: 7 | D7: 9 | E7: 12 | F7: 15 | G7: 15 | H7: 20
A8: Price | B8: 1513.26 | C8: 1771.04 | D8: 1830.47 | E8: 2133.92 | F8: 2613.45 | G8: 2676.14 | H8: 3141.43
A9: Standard Configuration set price | B9: =B8+'Indoor Unit Configuration'!B5 -> 1513.26 | C9: =C8+'Indoor Unit Configuration'!B5 -> 1771.04 | D9: =D8+'Indoor Unit Configuration'!B5 -> 1830.47 | E9: =E8+'Indoor Unit Configuration'!B5 -> 2133.92 | F9: =F8+'Indoor Unit Configuration'!B5 -> 2613.45 | G9: =G8+'Indoor Unit Configuration'!C5 -> 2676.14 | H9: =H8+'Indoor Unit Configuration'!C5 -> 3141.43
A10: Heating Capacity Range (kW) | B10: 2-5 | C10: 2.4-7 | D10: 2.8-10 | E10: 3.2-12 | F10: 4.9-15 | G10: 4.9-15 | H10: 6.6-20
A11: Heating (A7/6℃,W30/35℃)
A12: Heating Capacity (kW) | B12: 5 | C12: 7 | D12: 9 | E12: 12 | F12: 15 | G12: 15 | H12: 20
A13: Power Input (kW) | B13: 1.068 | C13: 1.515 | D13: 1.935 | E13: 2.553 | F13: 3.19 | G13: 3.19 | H13: =H12/H14 -> 4.2553191
A14: COP | B14: =B12/B13 -> 4.6816479 | C14: =C12/C13 -> 4.620462 | D14: =D12/D13 -> 4.6511628 | E14: =E12/E13 -> 4.7003525 | F14: =F12/F13 -> 4.7021944 | G14: =G12/G13 -> 4.7021944 | H14: 4.7
A15: Heating (A7/6℃,W40/45℃)
A16: Heating Capacity (kW) | B16: 5 | C16: 7 | D16: 9 | E16: 12 | F16: 15 | G16: 15 | H16: 20
A17: Power Input (kW) | B17: 1.37 | C17: 1.939 | D17: 2.466 | E17: 3.288 | F17: 4.155 | G17: 4.155 | H17: =H16/H18 -> 5.5401662
A18: COP | B18: =B16/B17 -> 3.649635 | C18: =C16/C17 -> 3.6101083 | D18: =D16/D17 -> 3.649635 | E18: =E16/E17 -> 3.649635 | F18: =F16/F17 -> 3.6101083 | G18: =G16/G17 -> 3.6101083 | H18: 3.61
A19: Heating (A7/6℃,W47/55℃)
A20: Heating Capacity (kW) | B20: 5 | C20: 7 | D20: 8.5 | E20: 11 | F20: 14 | G20: 14 | H20: 19
A21: Power Input (kW) | B21: 1.613 | C21: 2.258 | D21: 2.787 | E21: 3.548 | F21: 4.59 | G21: 4.59 | H21: =H20/H22 -> 6.440678
A22: COP | B22: =B20/B21 -> 3.099814 | C22: =C20/C21 -> 3.1000886 | D22: =D20/D21 -> 3.0498744 | E22: =E20/E21 -> 3.1003382 | F22: =F20/F21 -> 3.0501089 | G22: =G20/G21 -> 3.0501089 | H22: 2.95
A23: Cooling (A35/24℃,W23/18℃)
A24: Cooling Capacity (kW) | B24: 4.5 | C24: 5.5 | D24: 7 | E24: 10 | F24: 13 | G24: 13 | H24: 17
A25: Power Input (kW) | B25: 1.154 | C25: 1.41 | D25: 1.842 | E25: 2.564 | F25: 3.33 | G25: 3.33 | H25: =H24/H26 -> 4.3589744
A26: EER | B26: =B24/B25 -> 3.8994801 | C26: =C24/C25 -> 3.9007092 | D26: =D24/D25 -> 3.8002172 | E26: =E24/E25 -> 3.900156 | F26: =F24/F25 -> 3.9039039 | G26: =G24/G25 -> 3.9039039 | H26: 3.9
A27: Cooling (A35/24℃,W12/7℃)
A28: Cooling Capacity (kW) | B28: 4.5 | C28: 5.5 | D28: 7 | E28: 10 | F28: 13 | G28: 13 | H28: 17
A29: Power Input (kW) | B29: 1.607 | C29: 1.897 | D29: 2.574 | E29: 3.571 | F29: 4.727 | G29: 4.727 | H29: =H28/H30 -> 6.3432836
A30: EER | B30: =B28/B29 -> 2.8002489 | C30: =C28/C29 -> 2.8993147 | D30: =D28/D29 -> 2.7195027 | E30: =E28/E29 -> 2.800336 | F30: =F28/F29 -> 2.7501587 | G30: =G28/G29 -> 2.7501587 | H30: 2.68
A31: General Information
A32: Power Supply | B32: 220V~240V/50Hz/60Hz | G32: 380~415V/50Hz/60Hz
A33: Refrigerant | B33: R290
A34: Operating Air Temp.(℃) | B34: -25~43
A35: Max.Outlet Water Temp(℃) | B35: 75
A36: Max Power Input (kW) | B36: 3.68 | C36: 4.14 | D36: 4.83 | E36: 5.29 | F36: 7.36 | G36: 7.36 | H36: 9.56
A37: Max Current (A) | B37: 16 | C37: 18 | D37: 21 | E37: 23 | F37: 32 | G37: 16 | H37: 20
A38: General Configuration
A39: Controller | B39: 5.0 inches Colorful LED Touchscreen
A40: DTU (Data Transfer unit) and RS485 Modbus | B40: Yes (WIFI Version), Remote control
A41: WIFI | B41: Yes
A42: Compressor | B42: HIGHLY (Rotary)
A43: Fan Quantity | B43: 1
A44: Heat Exchanger | B44: Danfoss Plate heat exchanger
A45: EEV (Electronic expansion valve) | B45: SANHUA
A46: Built-in Circulating pump | B46: SHIMGE (Inverter)
A47: Water flow meter | B47: SIKA (Original German-Made)
A48: Deaerator | B48: Anti oxidation corrosion and avoid refrigerant leakage
A49: Casing Material | B49: Galvanized Sheet
A50: Water Pipe Connection (inch) | B50: G1" (Male thread) | H50: G1 1/4' (Male thread)
A51: Noise sound power Level dB(A) | B51: 52 | C51: 52 | D51: 52 | E51: 55 | F51: 55 | G51: 55 | H51: 55
A52: Noise sound pressure Level dB(A) @ 1m | B52: 41 | C52: 41 | D52: 41 | E52: 44 | F52: 44 | G52: 44 | H52: 44
A53: Water Flow (m³/h) | B53: 1.03 | C53: 1.38 | D53: 1.72 | E53: 2.06 | F53: 2.58 | G53: 2.58 | H53: 3.44
A54: Water Pressure Drop (kPa) | B54: 10 | C54: 15 | D54: 20 | E54: 25 | F54: 30 | G54: 30 | H54: 35
A55: Net Dimensions ( L/W/H ) mm | B55: 700*685*908 | C55: 700*685*908 | D55: 700*685*908 | E55: 1130*630*935 | F55: 1130*630*935 | G55: 1130*630*935 | H55: 1300*710*935
A56: Package Dimensions ( L/W/H ) mm | B56: 791*757*1061 | C56: 791*757*1061 | D56: 791*757*1061 | E56: 1220*730*1090 | F56: 1220*730*1090 | G56: 1220*730*1090 | H56: 1390*770*1095
A57: Net Weight KG | B57: 74 | C57: 75 | D57: 90 | E57: 118 | F57: 138 | G57: 138 | H57: 195
A58: Gross Weight KG | B58: 88 | C58: 90 | D58: 110 | E58: 141 | F58: 163 | G58: 163 | H58: 245
A59: Loading quantity 20GP/40GP,40HQ pcs Heat pump and indoor hydraulic box | B59: 36/90/90 | C59: 36/90/90 | D59: 36/90/90 | E59: 24/56/56 | F59: 24/56/56 | G59: 24/56/56 | H59: 24/50/50

Sheet Indoor Unit Configuration
A1: Optional Indoor Unit Configuration
A2: Product Name | B2: Hydraulic Box
A3: Picture
A4: Model | B4: NHB-02 | C4: NHB3N-01
A6: Power Supply | B6: 220~240V/50Hz/60Hz | C6: 380-415V/50Hz/60Hz
A7: Expansion Tank | B7: 5L | C7: 5L
A8: Electric Heating Heater | B8: 3kW | C8: 6kW
A9: AC Contactor 1 (Main Board) (Both are 220-240V voltage connection) | B9: 16A | C9: 16A
A10: AC Contactor 2 (DHW Electric Heater Terminal) | B10: 63A | C10: 25A
A11: AC Contactor 3 (Heating Electric Heater Terminal) | B11: 63A | C11: 25A
A12: AC Contactor 4 (Inner Electric Heater Terminal) | B12: 16A | C12: 25A
A13: 3-Way Valve | B13: Yes | C13: Yes
A14: Automatic Air Release Valve | B14: Yes | C14: Yes
A15: Communication Connecting Wire Length (Indoor unit & Outdoor unit) | B15: 15m | C15: 15m
A16: Connecting Wire Length (Temp. Sensors) | B16: 5m | C16: 5m
... A19: Adapt model | B19: JMU50HC JMU70HC JMU90HC JMU120HC JMU150HC | C19: JMU150HC3N JMU200HC3N
